BEGIN:VCALENDAR
VERSION:2.0
PRODID:-//TYPO3/NONSGML News system (news)//EN
BEGIN:VEVENT
UID:news-573@www.evim.de
LOCATION:Hattersheim am Main, Dürerstraße 25
DTSTAMP:20260415T132122Z
DTSTART:20260509T080000Z
DTEND:20260509T140000Z
SUMMARY:Großer Aktionstag „Gärtnerei erleben“ am Schlockerhof
END:VEVENT
END:VCALENDAR
