BEGIN:VCALENDAR
VERSION:2.0
PRODID:-//TYPO3/NONSGML News system (news)//EN
BEGIN:VEVENT
UID:news-573@www.evim.de
LOCATION:Hattersheim am Main, Dürerstraße 25
DTSTAMP:20260415T132122Z
DTSTART:20260509T080000Z
DTEND:20260509T130000Z
SUMMARY:Schlockerhof&#039;ta &quot;Bahçeciliği Keşfet&quot; adlı büyük etkinlik günü
END:VEVENT
END:VCALENDAR
